Package: Statial
Version: 1.8.0
Command: /Library/Frameworks/R.framework/Resources/bin/R CMD INSTALL Statial
StartedAt: 2024-11-08 15:51:06 -0500 (Fri, 08 Nov 2024)
EndedAt: 2024-11-08 15:51:16 -0500 (Fri, 08 Nov 2024)
EllapsedTime: 10.3 seconds
RetCode: 0
Status: OK