Package: Statial
Version: 1.8.0
Command: /Library/Frameworks/R.framework/Resources/bin/R CMD build --keep-empty-dirs --no-resave-data Statial
StartedAt: 2024-11-19 18:51:56 -0500 (Tue, 19 Nov 2024)
EndedAt: 2024-11-19 18:59:26 -0500 (Tue, 19 Nov 2024)
EllapsedTime: 450.1 seconds
RetCode: 0
Status: OK
PackageFile: Statial_1.8.0.tar.gz
PackageFileSize: 9.6 <A href="http://en.wikipedia.org/wiki/MiB" target="_blank">MiB</A>