Package: Statial Version: 1.8.0 Command: /home/biocbuild/R/R/bin/R CMD build --keep-empty-dirs --no-resave-data Statial StartedAt: 2025-02-04 03:20:19 -0000 (Tue, 04 Feb 2025) EndedAt: 2025-02-04 03:20:21 -0000 (Tue, 04 Feb 2025) EllapsedTime: 2.0 seconds RetCode: 1 Status: ERROR PackageFile: None PackageFileSize: NA