Package: Statial Version: 1.8.0 Command: /home/biocbuild/R/R/bin/R CMD INSTALL Statial StartedAt: 2025-02-03 21:24:06 -0000 (Mon, 03 Feb 2025) EndedAt: 2025-02-03 21:24:07 -0000 (Mon, 03 Feb 2025) EllapsedTime: 1.0 seconds RetCode: 1 Status: ERROR