Package: Streamer Version: 1.52.0 Command: /Library/Frameworks/R.framework/Resources/bin/R CMD check --install=check:Streamer.install-out.txt --library=/Library/Frameworks/R.framework/Resources/library --no-vignettes --timings Streamer_1.52.0.tar.gz StartedAt: 2025-02-05 11:58:59 -0500 (Wed, 05 Feb 2025) EndedAt: 2025-02-05 11:59:48 -0500 (Wed, 05 Feb 2025) EllapsedTime: 48.2 seconds RetCode: 0 Status: OK CheckDir: Streamer.Rcheck Warnings: 0