Package: Streamer Version: 1.52.0 Command: /Library/Frameworks/R.framework/Resources/bin/R CMD INSTALL Streamer StartedAt: 2025-02-03 15:21:01 -0500 (Mon, 03 Feb 2025) EndedAt: 2025-02-03 15:21:11 -0500 (Mon, 03 Feb 2025) EllapsedTime: 10.5 seconds RetCode: 0 Status: OK