Package: Streamer Version: 1.52.0 Command: /home/biocbuild/bbs-3.20-bioc/R/bin/R CMD check --install=check:Streamer.install-out.txt --library=/home/biocbuild/bbs-3.20-bioc/R/site-library --timings Streamer_1.52.0.tar.gz StartedAt: 2025-02-04 02:58:36 -0500 (Tue, 04 Feb 2025) EndedAt: 2025-02-04 02:59:19 -0500 (Tue, 04 Feb 2025) EllapsedTime: 43.1 seconds RetCode: 0 Status: OK CheckDir: Streamer.Rcheck Warnings: 0