Package: Streamer Version: 1.52.0 Command: rm -rf Streamer.buildbin-libdir && mkdir Streamer.buildbin-libdir && F:\biocbuild\bbs-3.20-bioc\R\bin\R.exe CMD INSTALL --build --library=Streamer.buildbin-libdir Streamer_1.52.0.tar.gz StartedAt: 2025-02-04 09:37:29 -0500 (Tue, 04 Feb 2025) EndedAt: 2025-02-04 09:38:04 -0500 (Tue, 04 Feb 2025) EllapsedTime: 35.1 seconds RetCode: 0 Status: OK PackageFile: Streamer_1.52.0.zip PackageFileSize: 556 KiB