Package: Structstrings Version: 1.22.1 Command: /Library/Frameworks/R.framework/Resources/bin/R CMD INSTALL Structstrings StartedAt: 2025-02-10 15:26:04 -0500 (Mon, 10 Feb 2025) EndedAt: 2025-02-10 15:26:25 -0500 (Mon, 10 Feb 2025) EllapsedTime: 20.7 seconds RetCode: 0 Status: OK