Package: Structstrings Version: 1.22.1 Command: /Library/Frameworks/R.framework/Resources/bin/R CMD build --keep-empty-dirs --no-resave-data Structstrings StartedAt: 2025-02-03 22:43:35 -0500 (Mon, 03 Feb 2025) EndedAt: 2025-02-03 22:44:44 -0500 (Mon, 03 Feb 2025) EllapsedTime: 68.3 seconds RetCode: 0 Status: OK PackageFile: Structstrings_1.22.1.tar.gz PackageFileSize: 366.7 KiB