Package: Structstrings Version: 1.22.1 Command: /Library/Frameworks/R.framework/Resources/bin/R CMD INSTALL Structstrings StartedAt: 2025-02-03 15:25:30 -0500 (Mon, 03 Feb 2025) EndedAt: 2025-02-03 15:26:10 -0500 (Mon, 03 Feb 2025) EllapsedTime: 39.7 seconds RetCode: 0 Status: OK