Package: Structstrings Version: 1.22.1 Command: /home/biocbuild/bbs-3.20-bioc/R/bin/R CMD check --install=check:Structstrings.install-out.txt --library=/home/biocbuild/bbs-3.20-bioc/R/site-library --timings Structstrings_1.22.1.tar.gz StartedAt: 2025-02-04 02:59:09 -0500 (Tue, 04 Feb 2025) EndedAt: 2025-02-04 03:02:09 -0500 (Tue, 04 Feb 2025) EllapsedTime: 180.2 seconds RetCode: 0 Status: OK CheckDir: Structstrings.Rcheck Warnings: 0