Package: Structstrings Version: 1.22.1 Command: /home/biocbuild/R/R/bin/R CMD INSTALL Structstrings StartedAt: 2025-02-10 20:19:24 -0000 (Mon, 10 Feb 2025) EndedAt: 2025-02-10 20:19:48 -0000 (Mon, 10 Feb 2025) EllapsedTime: 23.2 seconds RetCode: 0 Status: OK