Package: StructuralVariantAnnotation Version: 1.22.0 Command: /Library/Frameworks/R.framework/Resources/bin/R CMD build --keep-empty-dirs --no-resave-data StructuralVariantAnnotation StartedAt: 2025-01-31 09:07:15 -0500 (Fri, 31 Jan 2025) EndedAt: 2025-01-31 09:08:49 -0500 (Fri, 31 Jan 2025) EllapsedTime: 93.9 seconds RetCode: 0 Status: OK PackageFile: StructuralVariantAnnotation_1.22.0.tar.gz PackageFileSize: 962.4 KiB