Package: StructuralVariantAnnotation Version: 1.22.0 Command: /home/biocbuild/R/R/bin/R CMD check --install=check:StructuralVariantAnnotation.install-out.txt --library=/home/biocbuild/R/R/site-library --no-vignettes --timings StructuralVariantAnnotation_1.22.0.tar.gz StartedAt: 2024-11-20 13:00:12 -0000 (Wed, 20 Nov 2024) EndedAt: 2024-11-20 13:11:00 -0000 (Wed, 20 Nov 2024) EllapsedTime: 648.2 seconds RetCode: 0 Status: OK CheckDir: StructuralVariantAnnotation.Rcheck Warnings: 0