Package: StructuralVariantAnnotation Version: 1.22.0 Command: /home/biocbuild/bbs-3.20-bioc/R/bin/R CMD build --keep-empty-dirs --no-resave-data --md5 StructuralVariantAnnotation StartedAt: 2025-01-30 19:23:09 -0500 (Thu, 30 Jan 2025) EndedAt: 2025-01-30 19:24:22 -0500 (Thu, 30 Jan 2025) EllapsedTime: 73.1 seconds RetCode: 0 Status: OK PackageFile: StructuralVariantAnnotation_1.22.0.tar.gz PackageFileSize: 976.2 KiB