Package: StructuralVariantAnnotation Version: 1.22.0 Command: /home/biocbuild/bbs-3.20-bioc/R/bin/R CMD check --install=check:StructuralVariantAnnotation.install-out.txt --library=/home/biocbuild/bbs-3.20-bioc/R/site-library --timings StructuralVariantAnnotation_1.22.0.tar.gz StartedAt: 2025-01-31 02:48:52 -0500 (Fri, 31 Jan 2025) EndedAt: 2025-01-31 02:56:42 -0500 (Fri, 31 Jan 2025) EllapsedTime: 470.5 seconds RetCode: 0 Status: OK CheckDir: StructuralVariantAnnotation.Rcheck Warnings: 0