Package: StructuralVariantAnnotation Version: 1.22.0 Command: rm -rf StructuralVariantAnnotation.buildbin-libdir && mkdir StructuralVariantAnnotation.buildbin-libdir && F:\biocbuild\bbs-3.20-bioc\R\bin\R.exe CMD INSTALL --build --library=StructuralVariantAnnotation.buildbin-libdir StructuralVariantAnnotation_1.22.0.tar.gz StartedAt: 2025-01-31 09:44:18 -0500 (Fri, 31 Jan 2025) EndedAt: 2025-01-31 09:54:26 -0500 (Fri, 31 Jan 2025) EllapsedTime: 607.6 seconds RetCode: 0 Status: OK PackageFile: StructuralVariantAnnotation_1.22.0.zip PackageFileSize: 817.3 KiB