Package: StructuralVariantAnnotation Version: 1.22.0 Command: /home/biocbuild/R/R/bin/R CMD build --keep-empty-dirs --no-resave-data StructuralVariantAnnotation StartedAt: 2025-01-31 03:02:19 -0000 (Fri, 31 Jan 2025) EndedAt: 2025-01-31 03:04:02 -0000 (Fri, 31 Jan 2025) EllapsedTime: 103.1 seconds RetCode: 0 Status: OK PackageFile: StructuralVariantAnnotation_1.22.0.tar.gz PackageFileSize: 825.2 KiB