Package: StructuralVariantAnnotation Version: 1.22.0 Command: /home/biocbuild/R/R/bin/R CMD INSTALL StructuralVariantAnnotation StartedAt: 2025-01-30 20:28:50 -0000 (Thu, 30 Jan 2025) EndedAt: 2025-01-30 20:29:39 -0000 (Thu, 30 Jan 2025) EllapsedTime: 49.4 seconds RetCode: 0 Status: OK