Package: StructuralVariantAnnotation Version: 1.22.0 Command: /home/biocbuild/bbs-3.20-bioc/R/bin/R CMD check --install=check:StructuralVariantAnnotation.install-out.txt --library=/home/biocbuild/bbs-3.20-bioc/R/site-library --timings StructuralVariantAnnotation_1.22.0.tar.gz StartedAt: 2024-11-20 10:25:17 -0500 (Wed, 20 Nov 2024) EndedAt: 2024-11-20 10:31:34 -0500 (Wed, 20 Nov 2024) EllapsedTime: 376.5 seconds RetCode: 0 Status: OK CheckDir: StructuralVariantAnnotation.Rcheck Warnings: 0