Package: SubCellBarCode Version: 1.22.0 Command: /Library/Frameworks/R.framework/Resources/bin/R CMD build --keep-empty-dirs --no-resave-data SubCellBarCode StartedAt: 2025-02-17 22:46:13 -0500 (Mon, 17 Feb 2025) EndedAt: 2025-02-17 22:53:49 -0500 (Mon, 17 Feb 2025) EllapsedTime: 456.6 seconds RetCode: 0 Status: OK PackageFile: SubCellBarCode_1.22.0.tar.gz PackageFileSize: 2.359 <A href="http://en.wikipedia.org/wiki/MiB" target="_blank">MiB</A>