Package: SubCellBarCode
Version: 1.22.0
Command: /Library/Frameworks/R.framework/Resources/bin/R CMD check --install=check:SubCellBarCode.install-out.txt --library=/Library/Frameworks/R.framework/Resources/library --no-vignettes --timings SubCellBarCode_1.22.0.tar.gz
StartedAt: 2025-02-18 10:13:33 -0500 (Tue, 18 Feb 2025)
EndedAt: 2025-02-18 10:21:01 -0500 (Tue, 18 Feb 2025)
EllapsedTime: 447.9 seconds
RetCode: 0
Status: OK
CheckDir: SubCellBarCode.Rcheck
Warnings: 0