Package: SubCellBarCode Version: 1.22.0 Command: /Library/Frameworks/R.framework/Resources/bin/R CMD INSTALL SubCellBarCode StartedAt: 2025-02-03 16:29:59 -0500 (Mon, 03 Feb 2025) EndedAt: 2025-02-03 16:30:47 -0500 (Mon, 03 Feb 2025) EllapsedTime: 48.0 seconds RetCode: 0 Status: OK