Package: SubCellBarCode Version: 1.22.0 Command: /home/biocbuild/bbs-3.20-bioc/R/bin/R CMD INSTALL SubCellBarCode StartedAt: 2025-02-03 15:57:24 -0500 (Mon, 03 Feb 2025) EndedAt: 2025-02-03 15:57:47 -0500 (Mon, 03 Feb 2025) EllapsedTime: 23.9 seconds RetCode: 0 Status: OK