Package: SubCellBarCode
Version: 1.21.0
Command: F:\biocbuild\bbs-3.20-bioc\R\bin\R.exe CMD INSTALL SubCellBarCode
StartedAt: 2024-06-09 16:41:54 -0400 (Sun, 09 Jun 2024)
EndedAt: 2024-06-09 16:42:31 -0400 (Sun, 09 Jun 2024)
EllapsedTime: 36.8 seconds
RetCode: 0
Status: OK