Package: SubCellBarCode Version: 1.22.0 Command: rm -rf SubCellBarCode.buildbin-libdir && mkdir SubCellBarCode.buildbin-libdir && F:\biocbuild\bbs-3.20-bioc\R\bin\R.exe CMD INSTALL --build --library=SubCellBarCode.buildbin-libdir SubCellBarCode_1.22.0.tar.gz StartedAt: 2025-02-04 09:37:44 -0500 (Tue, 04 Feb 2025) EndedAt: 2025-02-04 09:38:52 -0500 (Tue, 04 Feb 2025) EllapsedTime: 67.6 seconds RetCode: 0 Status: OK PackageFile: SubCellBarCode_1.22.0.zip PackageFileSize: 1.742 MiB