Package: SubCellBarCode Version: 1.22.0 Command: chmod a+r SubCellBarCode -R && F:\biocbuild\bbs-3.20-bioc\R\bin\R.exe CMD build --keep-empty-dirs --no-resave-data SubCellBarCode StartedAt: 2025-02-03 22:28:27 -0500 (Mon, 03 Feb 2025) EndedAt: 2025-02-03 22:34:02 -0500 (Mon, 03 Feb 2025) EllapsedTime: 334.8 seconds RetCode: 0 Status: OK PackageFile: SubCellBarCode_1.22.0.tar.gz PackageFileSize: 1.34 MiB