Package: SubCellBarCode Version: 1.22.0 Command: F:\biocbuild\bbs-3.20-bioc\R\bin\R.exe CMD INSTALL SubCellBarCode StartedAt: 2025-02-03 16:14:17 -0500 (Mon, 03 Feb 2025) EndedAt: 2025-02-03 16:15:09 -0500 (Mon, 03 Feb 2025) EllapsedTime: 51.3 seconds RetCode: 0 Status: OK