Package: SubCellBarCode
Version: 1.22.0
Command: /home/biocbuild/R/R/bin/R CMD INSTALL SubCellBarCode
StartedAt: 2025-02-17 21:07:17 -0000 (Mon, 17 Feb 2025)
EndedAt: 2025-02-17 21:07:46 -0000 (Mon, 17 Feb 2025)
EllapsedTime: 28.8 seconds
RetCode: 0
Status: OK