Package: SummarizedExperiment Version: 1.36.0 Command: /Library/Frameworks/R.framework/Resources/bin/R CMD build --keep-empty-dirs --no-resave-data SummarizedExperiment StartedAt: 2025-02-03 22:45:15 -0500 (Mon, 03 Feb 2025) EndedAt: 2025-02-03 22:47:05 -0500 (Mon, 03 Feb 2025) EllapsedTime: 110.6 seconds RetCode: 0 Status: OK PackageFile: SummarizedExperiment_1.36.0.tar.gz PackageFileSize: 672.5 KiB