Package: SummarizedExperiment Version: 1.36.0 Command: /Library/Frameworks/R.framework/Resources/bin/R CMD check --install=check:SummarizedExperiment.install-out.txt --library=/Library/Frameworks/R.framework/Resources/library --no-vignettes --timings SummarizedExperiment_1.36.0.tar.gz StartedAt: 2025-02-04 10:57:52 -0500 (Tue, 04 Feb 2025) EndedAt: 2025-02-04 11:04:44 -0500 (Tue, 04 Feb 2025) EllapsedTime: 411.8 seconds RetCode: 0 Status: OK CheckDir: SummarizedExperiment.Rcheck Warnings: 0