Package: SummarizedExperiment Version: 1.36.0 Command: /Library/Frameworks/R.framework/Resources/bin/R CMD INSTALL SummarizedExperiment StartedAt: 2025-02-03 15:22:32 -0500 (Mon, 03 Feb 2025) EndedAt: 2025-02-03 15:23:36 -0500 (Mon, 03 Feb 2025) EllapsedTime: 63.7 seconds RetCode: 0 Status: OK