Package: SummarizedExperiment Version: 1.36.0 Command: /home/biocbuild/bbs-3.20-bioc/R/bin/R CMD check --install=check:SummarizedExperiment.install-out.txt --library=/home/biocbuild/bbs-3.20-bioc/R/site-library --timings SummarizedExperiment_1.36.0.tar.gz StartedAt: 2025-02-04 03:00:27 -0500 (Tue, 04 Feb 2025) EndedAt: 2025-02-04 03:03:49 -0500 (Tue, 04 Feb 2025) EllapsedTime: 202.2 seconds RetCode: 0 Status: OK CheckDir: SummarizedExperiment.Rcheck Warnings: 0