Package: SurfR Version: 1.2.6 Command: /Library/Frameworks/R.framework/Resources/bin/R CMD build --keep-empty-dirs --no-resave-data SurfR StartedAt: 2025-02-04 09:25:57 -0500 (Tue, 04 Feb 2025) EndedAt: 2025-02-04 09:26:51 -0500 (Tue, 04 Feb 2025) EllapsedTime: 53.6 seconds RetCode: 0 Status: OK PackageFile: SurfR_1.2.6.tar.gz PackageFileSize: 372.8 KiB