Package: SurfR Version: 1.2.6 Command: /home/biocbuild/bbs-3.20-bioc/R/bin/R CMD INSTALL SurfR StartedAt: 2025-02-03 16:04:52 -0500 (Mon, 03 Feb 2025) EndedAt: 2025-02-03 16:05:35 -0500 (Mon, 03 Feb 2025) EllapsedTime: 42.5 seconds RetCode: 0 Status: OK