Package: SynMut Version: 1.22.0 Command: chmod a+r SynMut -R && F:\biocbuild\bbs-3.20-bioc\R\bin\R.exe CMD build --keep-empty-dirs --no-resave-data SynMut StartedAt: 2025-02-03 22:31:27 -0500 (Mon, 03 Feb 2025) EndedAt: 2025-02-03 22:32:05 -0500 (Mon, 03 Feb 2025) EllapsedTime: 38.0 seconds RetCode: 0 Status: OK PackageFile: SynMut_1.22.0.tar.gz PackageFileSize: 104.5 KiB