Package: TADCompare Version: 1.16.0 Command: rm -rf TADCompare.buildbin-libdir && mkdir TADCompare.buildbin-libdir && /Users/biocbuild/BBS/utils/build-universal.sh TADCompare_1.16.0.tar.gz /Library/Frameworks/R.framework/Resources/bin/R TADCompare.buildbin-libdir StartedAt: 2025-02-05 18:04:10 -0500 (Wed, 05 Feb 2025) EndedAt: 2025-02-05 18:04:51 -0500 (Wed, 05 Feb 2025) EllapsedTime: 41.3 seconds RetCode: 0 Status: OK PackageFile: TADCompare_1.16.0.tgz PackageFileSize: 4.972 MiB