Package: TADCompare Version: 1.16.0 Command: /Library/Frameworks/R.framework/Resources/bin/R CMD build --keep-empty-dirs --no-resave-data TADCompare StartedAt: 2025-02-04 09:33:55 -0500 (Tue, 04 Feb 2025) EndedAt: 2025-02-04 09:35:23 -0500 (Tue, 04 Feb 2025) EllapsedTime: 88.2 seconds RetCode: 0 Status: OK PackageFile: TADCompare_1.16.0.tar.gz PackageFileSize: 4.195 MiB