Package: TADCompare Version: 1.16.0 Command: /Library/Frameworks/R.framework/Resources/bin/R CMD INSTALL TADCompare StartedAt: 2025-02-03 18:11:13 -0500 (Mon, 03 Feb 2025) EndedAt: 2025-02-03 18:11:49 -0500 (Mon, 03 Feb 2025) EllapsedTime: 35.7 seconds RetCode: 0 Status: OK