Package: TADCompare Version: 1.16.0 Command: rm -rf TADCompare.buildbin-libdir && mkdir TADCompare.buildbin-libdir && /Users/biocbuild/BBS/utils/build-universal.sh TADCompare_1.16.0.tar.gz /Library/Frameworks/R.framework/Resources/bin/R TADCompare.buildbin-libdir StartedAt: 2025-01-31 13:49:59 -0500 (Fri, 31 Jan 2025) EndedAt: 2025-01-31 13:51:06 -0500 (Fri, 31 Jan 2025) EllapsedTime: 66.7 seconds RetCode: 0 Status: OK PackageFile: TADCompare_1.16.0.tgz PackageFileSize: 4.972 MiB