Package: TADCompare Version: 1.16.0 Command: /Library/Frameworks/R.framework/Resources/bin/R CMD build --keep-empty-dirs --no-resave-data TADCompare StartedAt: 2025-02-03 22:49:47 -0500 (Mon, 03 Feb 2025) EndedAt: 2025-02-03 22:52:16 -0500 (Mon, 03 Feb 2025) EllapsedTime: 149.4 seconds RetCode: 0 Status: OK PackageFile: TADCompare_1.16.0.tar.gz PackageFileSize: 4.194 MiB