Package: TADCompare Version: 1.16.0 Command: /home/biocbuild/bbs-3.20-bioc/R/bin/R CMD build --keep-empty-dirs --no-resave-data --md5 TADCompare StartedAt: 2025-02-17 19:21:30 -0500 (Mon, 17 Feb 2025) EndedAt: 2025-02-17 19:22:31 -0500 (Mon, 17 Feb 2025) EllapsedTime: 61.1 seconds RetCode: 0 Status: OK PackageFile: TADCompare_1.16.0.tar.gz PackageFileSize: 4.148 <A href="http://en.wikipedia.org/wiki/MiB" target="_blank">MiB</A>