Package: TADCompare Version: 1.16.0 Command: /home/biocbuild/R/R/bin/R CMD build --keep-empty-dirs --no-resave-data TADCompare StartedAt: 2025-02-04 03:27:09 -0000 (Tue, 04 Feb 2025) EndedAt: 2025-02-04 03:28:55 -0000 (Tue, 04 Feb 2025) EllapsedTime: 106.1 seconds RetCode: 0 Status: OK PackageFile: TADCompare_1.16.0.tar.gz PackageFileSize: 3.582 MiB