Package: TADCompare Version: 1.16.0 Command: /home/biocbuild/R/R/bin/R CMD INSTALL TADCompare StartedAt: 2025-02-03 21:22:05 -0000 (Mon, 03 Feb 2025) EndedAt: 2025-02-03 21:22:41 -0000 (Mon, 03 Feb 2025) EllapsedTime: 36.7 seconds RetCode: 0 Status: OK