Package: TAPseq Version: 1.18.0 Command: /Library/Frameworks/R.framework/Resources/bin/R CMD build --keep-empty-dirs --no-resave-data TAPseq StartedAt: 2025-02-04 09:34:09 -0500 (Tue, 04 Feb 2025) EndedAt: 2025-02-04 09:39:28 -0500 (Tue, 04 Feb 2025) EllapsedTime: 318.5 seconds RetCode: 0 Status: OK PackageFile: TAPseq_1.18.0.tar.gz PackageFileSize: 2.525 MiB