Package: TAPseq Version: 1.18.0 Command: /Library/Frameworks/R.framework/Resources/bin/R CMD INSTALL TAPseq StartedAt: 2025-02-03 16:04:20 -0500 (Mon, 03 Feb 2025) EndedAt: 2025-02-03 16:05:08 -0500 (Mon, 03 Feb 2025) EllapsedTime: 47.8 seconds RetCode: 0 Status: OK