Package: TAPseq Version: 1.18.0 Command: rm -rf TAPseq.buildbin-libdir && mkdir TAPseq.buildbin-libdir && /Users/biocbuild/BBS/utils/build-universal.sh TAPseq_1.18.0.tar.gz /Library/Frameworks/R.framework/Resources/bin/R TAPseq.buildbin-libdir StartedAt: 2025-01-31 13:50:02 -0500 (Fri, 31 Jan 2025) EndedAt: 2025-01-31 13:51:31 -0500 (Fri, 31 Jan 2025) EllapsedTime: 89.0 seconds RetCode: 0 Status: OK PackageFile: TAPseq_1.18.0.tgz PackageFileSize: 2.955 MiB