Package: TAPseq Version: 1.18.0 Command: /home/biocbuild/bbs-3.20-bioc/R/bin/R CMD INSTALL TAPseq StartedAt: 2025-02-03 15:33:00 -0500 (Mon, 03 Feb 2025) EndedAt: 2025-02-03 15:33:40 -0500 (Mon, 03 Feb 2025) EllapsedTime: 40.3 seconds RetCode: 0 Status: OK