Package: TAPseq Version: 1.18.0 Command: rm -rf TAPseq.buildbin-libdir && mkdir TAPseq.buildbin-libdir && F:\biocbuild\bbs-3.20-bioc\R\bin\R.exe CMD INSTALL --build --library=TAPseq.buildbin-libdir TAPseq_1.18.0.tar.gz StartedAt: 2025-02-04 09:39:16 -0500 (Tue, 04 Feb 2025) EndedAt: 2025-02-04 09:40:34 -0500 (Tue, 04 Feb 2025) EllapsedTime: 77.8 seconds RetCode: 0 Status: OK PackageFile: TAPseq_1.18.0.zip PackageFileSize: 2.878 MiB